BEGIN:VCALENDAR
VERSION:2.0
PRODID:-//Ciutadans | Sant Cugat - ECPv4.6.7//NONSGML v1.0//EN
CALSCALE:GREGORIAN
METHOD:PUBLISH
X-WR-CALNAME:Ciutadans | Sant Cugat
X-ORIGINAL-URL:http://santcugat.ciudadanos-cs.org
X-WR-CALDESC:Events for Ciutadans | Sant Cugat
BEGIN:VEVENT
DTSTART;TZID=UTC+0:20160511T150000
DTEND;TZID=UTC+0:20160511T170000
DTSTAMP:20260425T202801
CREATED:20160510T092933Z
LAST-MODIFIED:20160510T092933Z
UID:1802-1462978800-1462986000@santcugat.ciudadanos-cs.org
SUMMARY:"Agenda del Regidor" - Comissió Informativa de Cultura
DESCRIPTION:Sergo Blázquez assistirà a la Comissió Informativa de Cultura del mes de maig \n
URL:http://santcugat.ciudadanos-cs.org/evento/agenda-del-regidor-comissio-informativa-de-cultura-2/
LOCATION:Plaça de la Vila\, 1\, Sant Cugat\, barcelona\, 08172\, España
ATTACH;FMTTYPE=image/jpeg:http://santcugat.ciudadanos-cs.org/wp-content/uploads/sites/44/2016/05/lr-_CHN0667.jpg
END:VEVENT
BEGIN:VEVENT
DTSTART;TZID=UTC+0:20160511T170000
DTEND;TZID=UTC+0:20160511T200000
DTSTAMP:20260425T202801
CREATED:20160510T095641Z
LAST-MODIFIED:20160510T095641Z
UID:1809-1462986000-1462996800@santcugat.ciudadanos-cs.org
SUMMARY:"Agenda del Regidor" - Comissió Informativa d'Urbanisme\, Mobilitat i Habitatge
DESCRIPTION:Munia Fernández-Jordán assistirà a la comissió informativa d’urbanisme\, mobilitat i habitatge del mes de maig \n
URL:http://santcugat.ciudadanos-cs.org/evento/agenda-del-regidor-comissio-informativa-durbanisme-mobilitat-i-habitatge/
LOCATION:Plaça de la Vila\, 1\, Sant Cugat\, barcelona\, 08172\, España
ATTACH;FMTTYPE=image/jpeg:http://santcugat.ciudadanos-cs.org/wp-content/uploads/sites/44/2016/05/lr-_CHN0800.jpg
END:VEVENT
BEGIN:VEVENT
DTSTART;TZID=UTC+0:20160511T193000
DTEND;TZID=UTC+0:20160511T220000
DTSTAMP:20260425T202801
CREATED:20160510T095044Z
LAST-MODIFIED:20160510T095044Z
UID:1807-1462995000-1463004000@santcugat.ciudadanos-cs.org
SUMMARY:"Agenda del Regidor" - Comissió Informativa de Participació Ciutadana
DESCRIPTION:Munia Fernández-Jordán assistirà a la comissió informativa de participació ciutadana \n
URL:http://santcugat.ciudadanos-cs.org/evento/agenda-del-regidor-comissio-informativa-de-participacio-ciutadana/
LOCATION:Plaça de la Vila\, 1\, Sant Cugat\, barcelona\, 08172\, España
ATTACH;FMTTYPE=image/jpeg:http://santcugat.ciudadanos-cs.org/wp-content/uploads/sites/44/2016/05/lr-_CHN0800.jpg
END:VEVENT
END:VCALENDAR