BEGIN:VCALENDAR
VERSION:2.0
PRODID:-//Ciutadans | Sant Cugat - ECPv4.6.7//NONSGML v1.0//EN
CALSCALE:GREGORIAN
METHOD:PUBLISH
X-WR-CALNAME:Ciutadans | Sant Cugat
X-ORIGINAL-URL:http://santcugat.ciudadanos-cs.org
X-WR-CALDESC:Events for Ciutadans | Sant Cugat
BEGIN:VEVENT
DTSTART;TZID=UTC+0:20160406T080000
DTEND;TZID=UTC+0:20160406T170000
DTSTAMP:20260423T123435
CREATED:20160406T112359Z
LAST-MODIFIED:20160406T112359Z
UID:1633-1459929600-1459962000@santcugat.ciudadanos-cs.org
SUMMARY:"Agenda del Regidor" - Assistència a les activitats pel dia del llibre de l'Escola Hatikva
DESCRIPTION:Sergio Blázquez\, Munia Fernández-Jordán y Susanna Casta assistiran a les activitats que ha preparat l’Escola Hatikva en commemoració del dia del llibre \n
URL:http://santcugat.ciudadanos-cs.org/evento/agenda-del-regidor-assistencia-a-les-activitats-pel-dia-del-llibre-de-lescola-hatikva/
END:VEVENT
BEGIN:VEVENT
DTSTART;TZID=UTC+0:20160406T150000
DTEND;TZID=UTC+0:20160406T170000
DTSTAMP:20260423T123435
CREATED:20160404T135544Z
LAST-MODIFIED:20160404T135544Z
UID:1617-1459954800-1459962000@santcugat.ciudadanos-cs.org
SUMMARY:"Agenda del Regidor" - Comissió Informativa de Cultura
DESCRIPTION:Sergio Blázquez assistirà com a representant del grup municipal de C’s a la comissió informativa de cultura del mes d’abril \n
URL:http://santcugat.ciudadanos-cs.org/evento/agenda-del-regidor-comissio-informativa-de-cultura/
LOCATION:Plaça de la Vila\, 1\, Sant Cugat\, barcelona\, 08172\, España
ATTACH;FMTTYPE=image/jpeg:http://santcugat.ciudadanos-cs.org/wp-content/uploads/sites/44/2016/04/lr-_CHN0631.jpg
END:VEVENT
BEGIN:VEVENT
DTSTART;TZID=UTC+0:20160406T170000
DTEND;TZID=UTC+0:20160406T170000
DTSTAMP:20260423T123435
CREATED:20160404T140626Z
LAST-MODIFIED:20160404T140626Z
UID:1620-1459962000-1459962000@santcugat.ciudadanos-cs.org
SUMMARY:"Agenda del Regidor" - Comissió d'Urbanisme i Medi Ambient
DESCRIPTION:Munia Fernández-Jordán és la representant del grup municipal de C’s a la comissió d’urbanisme i medi ambient \n
URL:http://santcugat.ciudadanos-cs.org/evento/agenda-del-regidor-comissio-durbanisme-i-medi-ambient/
LOCATION:Plaça de la Vila\, 1\, Sant Cugat\, barcelona\, 08172\, España
ATTACH;FMTTYPE=image/jpeg:http://santcugat.ciudadanos-cs.org/wp-content/uploads/sites/44/2016/04/lr-_CHN0552.jpg
END:VEVENT
BEGIN:VEVENT
DTSTART;TZID=UTC+0:20160406T190000
DTEND;TZID=UTC+0:20160406T210000
DTSTAMP:20260423T123435
CREATED:20160406T112614Z
LAST-MODIFIED:20160406T112614Z
UID:1635-1459969200-1459976400@santcugat.ciudadanos-cs.org
SUMMARY:"Agenda del Regidor" - Inauguració d'exposició "Abans de l'Alba"
DESCRIPTION:Aldo Ciprian assistirà a la inauguració d’exposició «Abans de l’Alba» en el Museu del Monestir \n
URL:http://santcugat.ciudadanos-cs.org/evento/agenda-del-regidor-inauguracio-dexposicio-abans-de-lalba/
LOCATION:Plaça de l' Om\, 1 \, Sant Cugat\, España
ATTACH;FMTTYPE=image/jpeg:http://santcugat.ciudadanos-cs.org/wp-content/uploads/sites/44/2016/03/lr-_CHN0630.jpg
END:VEVENT
BEGIN:VEVENT
DTSTART;TZID=UTC+0:20160406T193000
DTEND;TZID=UTC+0:20160406T210000
DTSTAMP:20260423T123435
CREATED:20160404T135339Z
LAST-MODIFIED:20160404T135339Z
UID:1616-1459971000-1459976400@santcugat.ciudadanos-cs.org
SUMMARY:"Agenda del Regidor" - Comissió Informativa Participació Ciutadana
DESCRIPTION:Munia Fernández-Jordán assistirà el pròxim 06 d’abril a la comissió informativa de participació ciutadana \n
URL:http://santcugat.ciudadanos-cs.org/evento/agenda-del-regidor-comissio-informativa-participacio-ciutadana/
LOCATION:Plaça de la Vila\, 1\, Sant Cugat\, barcelona\, 08172\, España
ATTACH;FMTTYPE=image/jpeg:http://santcugat.ciudadanos-cs.org/wp-content/uploads/sites/44/2016/04/lr-_CHN0552.jpg
END:VEVENT
END:VCALENDAR