BEGIN:VCALENDAR
VERSION:2.0
PRODID:-//Ciutadans | Sant Cugat - ECPv4.6.7//NONSGML v1.0//EN
CALSCALE:GREGORIAN
METHOD:PUBLISH
X-WR-CALNAME:Ciutadans | Sant Cugat
X-ORIGINAL-URL:http://santcugat.ciudadanos-cs.org
X-WR-CALDESC:Events for Ciutadans | Sant Cugat
BEGIN:VEVENT
DTSTART;TZID=UTC+0:20160405T153000
DTEND;TZID=UTC+0:20160405T170000
DTSTAMP:20260423T111015
CREATED:20160404T135952Z
LAST-MODIFIED:20160404T135952Z
UID:1618-1459870200-1459875600@santcugat.ciudadanos-cs.org
SUMMARY:"Agenda del Regidor" - Comissió Informativa de Presidència i Serveis Urbans
DESCRIPTION:Aldo Ciprian\, portaveu del grup municipal de C’s\, assistirà a la comissió informativa de presidència i serveis urbans del mes d’abril \n
URL:http://santcugat.ciudadanos-cs.org/evento/agenda-del-regidor-comissio-informativa-de-presidencia-i-serveis-urbans/
LOCATION:Plaça de la Vila\, 1\, Sant Cugat\, barcelona\, 08172\, España
ATTACH;FMTTYPE=image/jpeg:http://santcugat.ciudadanos-cs.org/wp-content/uploads/sites/44/2016/03/lr-_CHN0630.jpg
END:VEVENT
END:VCALENDAR