BEGIN:VCALENDAR
VERSION:2.0
PRODID:-//Ciutadans | Sant Cugat - ECPv4.6.7//NONSGML v1.0//EN
CALSCALE:GREGORIAN
METHOD:PUBLISH
X-WR-CALNAME:Ciutadans | Sant Cugat
X-ORIGINAL-URL:http://santcugat.ciudadanos-cs.org
X-WR-CALDESC:Events for Ciutadans | Sant Cugat
BEGIN:VEVENT
DTSTART;TZID=UTC+0:20160402T093000
DTEND;TZID=UTC+0:20160402T133000
DTSTAMP:20260423T061046
CREATED:20160401T104455Z
LAST-MODIFIED:20160401T104455Z
UID:1598-1459589400-1459603800@santcugat.ciudadanos-cs.org
SUMMARY:Carpa Informativa Mira-sol 2 de Abril
DESCRIPTION: \n
URL:http://santcugat.ciudadanos-cs.org/evento/carpa-informativa-mira-sol-2-de-abril/
LOCATION:Sant Cugat\, Barcelona\, España
ATTACH;FMTTYPE=image/jpeg:http://santcugat.ciudadanos-cs.org/wp-content/uploads/sites/44/2016/04/flyer-A6-anuncio-carpa-CAST.jpg
END:VEVENT
END:VCALENDAR