BEGIN:VCALENDAR
VERSION:2.0
PRODID:-//Ciutadans | Sant Cugat - ECPv4.6.7//NONSGML v1.0//EN
CALSCALE:GREGORIAN
METHOD:PUBLISH
X-WR-CALNAME:Ciutadans | Sant Cugat
X-ORIGINAL-URL:http://santcugat.ciudadanos-cs.org
X-WR-CALDESC:Events for Ciutadans | Sant Cugat
BEGIN:VEVENT
DTSTART;TZID=UTC+0:20160330T180000
DTEND;TZID=UTC+0:20160330T200000
DTSTAMP:20260423T011603
CREATED:20160323T102532Z
LAST-MODIFIED:20160323T102532Z
UID:1540-1459360800-1459368000@santcugat.ciudadanos-cs.org
SUMMARY:Consell Administració PROMUSA
DESCRIPTION:Gemma Vivancos\, representant de C’s al consell d’administració de Promusa\, assistirà a la pròxima reunió convocada \n
URL:http://santcugat.ciudadanos-cs.org/evento/consell-administracio-promusa/
LOCATION:Plaça de la Vila\, 1\, Sant Cugat\, barcelona\, 08172\, España
ATTACH;FMTTYPE=image/jpeg:http://santcugat.ciudadanos-cs.org/wp-content/uploads/sites/44/2016/03/lr-_CHN0297.jpg
END:VEVENT
END:VCALENDAR