BEGIN:VCALENDAR
VERSION:2.0
PRODID:-//Ciutadans | Sant Cugat - ECPv4.6.7//NONSGML v1.0//EN
CALSCALE:GREGORIAN
METHOD:PUBLISH
X-WR-CALNAME:Ciutadans | Sant Cugat
X-ORIGINAL-URL:http://santcugat.ciudadanos-cs.org
X-WR-CALDESC:Events for Ciutadans | Sant Cugat
BEGIN:VEVENT
DTSTART;TZID=UTC+0:20160326T080000
DTEND;TZID=UTC+0:20160329T170000
DTSTAMP:20260422T215214
CREATED:20160224T170805Z
LAST-MODIFIED:20160224T170805Z
UID:1410-1458979200-1459270800@santcugat.ciudadanos-cs.org
SUMMARY:"Agenda del Regidor" - Viatge agermanament amb l'Haba
DESCRIPTION:Sergio Blázquez anirà al viatge de la comitiva d’agermanament amb el poble extremeny de l’Haba \n
URL:http://santcugat.ciudadanos-cs.org/evento/agenda-del-regidor-viatge-agermanament-amb-lhaba/
ATTACH;FMTTYPE=image/png:http://santcugat.ciudadanos-cs.org/wp-content/uploads/sites/44/2016/02/62px-Escudo_de_La_Haba_Badajoz.svg_.png
END:VEVENT
END:VCALENDAR