BEGIN:VCALENDAR
VERSION:2.0
PRODID:-//Ciutadans | Sant Cugat - ECPv4.6.7//NONSGML v1.0//EN
CALSCALE:GREGORIAN
METHOD:PUBLISH
X-WR-CALNAME:Ciutadans | Sant Cugat
X-ORIGINAL-URL:http://santcugat.ciudadanos-cs.org
X-WR-CALDESC:Events for Ciutadans | Sant Cugat
BEGIN:VEVENT
DTSTART;TZID=UTC+0:20160321T183000
DTEND;TZID=UTC+0:20160321T210000
DTSTAMP:20260422T094713
CREATED:20160315T115505Z
LAST-MODIFIED:20160315T115505Z
UID:1510-1458585000-1458594000@santcugat.ciudadanos-cs.org
SUMMARY:Ple ordinari març 2015
DESCRIPTION:El 21 de març es celebra el ple ordinari a l’Ajuntament de Sant Cugat. \nFent clic aquí podeu trovar les nostres propostes per aquest mes. \n
URL:http://santcugat.ciudadanos-cs.org/evento/ple-ordinari-marc-2015/
LOCATION:Plaça de la Vila\, 1\, Sant Cugat\, barcelona\, 08172\, España
ATTACH;FMTTYPE=image/jpeg:http://santcugat.ciudadanos-cs.org/wp-content/uploads/sites/44/2015/07/20AJUNTAMENT.jpg
END:VEVENT
END:VCALENDAR