BEGIN:VCALENDAR
VERSION:2.0
PRODID:-//Ciutadans | Sant Cugat - ECPv4.6.7//NONSGML v1.0//EN
CALSCALE:GREGORIAN
METHOD:PUBLISH
X-WR-CALNAME:Ciutadans | Sant Cugat
X-ORIGINAL-URL:http://santcugat.ciudadanos-cs.org
X-WR-CALDESC:Events for Ciutadans | Sant Cugat
BEGIN:VEVENT
DTSTART;TZID=UTC+0:20160302T090500
DTEND;TZID=UTC+0:20160302T100000
DTSTAMP:20260421T015953
CREATED:20160301T132020Z
LAST-MODIFIED:20160301T132020Z
UID:1433-1456909500-1456912800@santcugat.ciudadanos-cs.org
SUMMARY:"Agenda del Regidor" - Tertúlia municipal política a Cugat.cat
DESCRIPTION:Com cada dimecres\, Sergio Blázquez assisteix a la tertúlia política al Cugat.cat \n
URL:http://santcugat.ciudadanos-cs.org/evento/agenda-del-regidor-tertulia-municipal-politica-a-cugat-cat/
LOCATION:Sant Cugat
ATTACH;FMTTYPE=image/jpeg:http://santcugat.ciudadanos-cs.org/wp-content/uploads/sites/44/2016/03/lr-_CHN0745.jpg
END:VEVENT
BEGIN:VEVENT
DTSTART;TZID=UTC+0:20160302T103000
DTEND;TZID=UTC+0:20160302T110000
DTSTAMP:20260421T015953
CREATED:20160217T143809Z
LAST-MODIFIED:20160217T143809Z
UID:1340-1456914600-1456916400@santcugat.ciudadanos-cs.org
SUMMARY:"Agenda del Regidor" - Canvi de Marxa
DESCRIPTION:Aldo Ciprian\, portaveu de C’s\, assistirà al acte Canvi de Marxa \n
URL:http://santcugat.ciudadanos-cs.org/evento/agenda-del-regidor-canvi-de-marxa/
ATTACH;FMTTYPE=image/jpeg:http://santcugat.ciudadanos-cs.org/wp-content/uploads/sites/44/2016/01/lr-_CHN0713.jpg
END:VEVENT
BEGIN:VEVENT
DTSTART;TZID=UTC+0:20160302T190000
DTEND;TZID=UTC+0:20160302T210000
DTSTAMP:20260421T015953
CREATED:20160301T131125Z
LAST-MODIFIED:20160301T131125Z
UID:1426-1456945200-1456952400@santcugat.ciudadanos-cs.org
SUMMARY:"Agenda del Regidor" - Reunión Premis Ciutat de Sant Cugat
DESCRIPTION:Aldo Ciprian serà un dels membres del jurat i aquest dimecres es reuneix amb altres membres del jurat sobre la gala dels Premis Ciutat de Sant Cugat que tindrà lloc el pròxim 14 de març \n
URL:http://santcugat.ciudadanos-cs.org/evento/agenda-del-regidor-reunion-premis-ciutat-de-sant-cugat/
LOCATION:Plaça de la Vila\, 1\, Sant Cugat\, barcelona\, 08172\, España
ATTACH;FMTTYPE=image/jpeg:http://santcugat.ciudadanos-cs.org/wp-content/uploads/sites/44/2016/02/lrCHN0630.jpg
END:VEVENT
BEGIN:VEVENT
DTSTART;TZID=UTC+0:20160302T200000
DTEND;TZID=UTC+0:20160302T210000
DTSTAMP:20260421T015953
CREATED:20160216T111353Z
LAST-MODIFIED:20160216T111419Z
UID:1332-1456948800-1456952400@santcugat.ciudadanos-cs.org
SUMMARY:Consell de Barri Mirasol
DESCRIPTION:Neus Valero\, membre del grup municipal i veïna de Mirasol\, representarà a C’s en el Consell de Barri de Mirasol \n
URL:http://santcugat.ciudadanos-cs.org/evento/consell-de-barri-mirasol/
LOCATION:Carrer de Mallorca\, 42\, Sant Cugat
ATTACH;FMTTYPE=image/jpeg:http://santcugat.ciudadanos-cs.org/wp-content/uploads/sites/44/2016/02/lr-_CHN0634.jpg
END:VEVENT
END:VCALENDAR