BEGIN:VCALENDAR
VERSION:2.0
PRODID:-//Ciutadans | Sant Cugat - ECPv4.6.7//NONSGML v1.0//EN
CALSCALE:GREGORIAN
METHOD:PUBLISH
X-WR-CALNAME:Ciutadans | Sant Cugat
X-ORIGINAL-URL:http://santcugat.ciudadanos-cs.org
X-WR-CALDESC:Events for Ciutadans | Sant Cugat
BEGIN:VEVENT
DTSTART;TZID=UTC+0:20160301T080000
DTEND;TZID=UTC+0:20160301T170000
DTSTAMP:20260421T001639
CREATED:20160301T131651Z
LAST-MODIFIED:20160301T131651Z
UID:1429-1456819200-1456851600@santcugat.ciudadanos-cs.org
SUMMARY:"Agenda del Regidor" - Festes de Sant Medir
DESCRIPTION:Els nostres regidors assistiran a tots els actes programats per les festes de Sant Medir. Per veure el programa feu clic aquí \n
URL:http://santcugat.ciudadanos-cs.org/evento/agenda-del-regidor-festes-de-sant-medir/
ATTACH;FMTTYPE=image/jpeg:http://santcugat.ciudadanos-cs.org/wp-content/uploads/sites/44/2016/02/lr-_CHN0646.jpg
END:VEVENT
BEGIN:VEVENT
DTSTART;TZID=UTC+0:20160301T080000
DTEND;TZID=UTC+0:20160301T170000
DTSTAMP:20260421T001639
CREATED:20160301T131904Z
LAST-MODIFIED:20160301T131904Z
UID:1431-1456819200-1456851600@santcugat.ciudadanos-cs.org
SUMMARY:"Agenda del Regidor" - Conferència: 'Meteorits i cometes\, o com escampar molècules orgàniques per l'Univers?'
DESCRIPTION:Sergio Blázquez assistirà a aquesta conferència a càrrec de Jordi Llorca\, catedràtic de la Universitat Politècnica de Catalunya\, director del Centre de Recerca de Nanoenginyeria de la UPC. \n
URL:http://santcugat.ciudadanos-cs.org/evento/agenda-del-regidor-conferencia-meteorits-i-cometes-o-com-escampar-molecules-organiques-per-lunivers/
LOCATION:Plaça de l' Om\, 1 \, Sant Cugat\, España
ATTACH;FMTTYPE=image/jpeg:http://santcugat.ciudadanos-cs.org/wp-content/uploads/sites/44/2016/03/lr-_CHN0745.jpg
END:VEVENT
BEGIN:VEVENT
DTSTART;TZID=UTC+0:20160301T193000
DTEND;TZID=UTC+0:20160301T210000
DTSTAMP:20260421T001639
CREATED:20160216T114507Z
LAST-MODIFIED:20160216T114507Z
UID:1334-1456860600-1456866000@santcugat.ciudadanos-cs.org
SUMMARY:"Agenda del Regidor" - Consell de la Ciutat
DESCRIPTION:Aldo Ciprian\, portaveu del grup municipal\, assistirà com a representant de C’s a la primera sessió del Consell de la Ciutat \n
URL:http://santcugat.ciudadanos-cs.org/evento/agenda-del-regidor-consell-de-la-ciutat/
LOCATION:Plaça de la Vila\, 1\, Sant Cugat\, barcelona\, 08172\, España
ATTACH;FMTTYPE=image/jpeg:http://santcugat.ciudadanos-cs.org/wp-content/uploads/sites/44/2016/02/lrCHN0630.jpg
END:VEVENT
END:VCALENDAR