BEGIN:VCALENDAR
VERSION:2.0
PRODID:-//Ciutadans | Sant Cugat - ECPv4.6.7//NONSGML v1.0//EN
CALSCALE:GREGORIAN
METHOD:PUBLISH
X-WR-CALNAME:Ciutadans | Sant Cugat
X-ORIGINAL-URL:http://santcugat.ciudadanos-cs.org
X-WR-CALDESC:Events for Ciutadans | Sant Cugat
BEGIN:VEVENT
DTSTART;TZID=UTC+0:20160226T110000
DTEND;TZID=UTC+0:20160226T130000
DTSTAMP:20260420T181346
CREATED:20160222T124925Z
LAST-MODIFIED:20160222T124925Z
UID:1386-1456484400-1456491600@santcugat.ciudadanos-cs.org
SUMMARY:Reunió amb el grup de Ciutadans a la Diputació de Barcelona
DESCRIPTION:El grup municipal de C’s Sant Cugat es reunirà amb el grup de la Diputació de Barcelona \n
URL:http://santcugat.ciudadanos-cs.org/evento/reunio-amb-el-grup-de-ciutadans-a-la-diputacio-de-barcelona/
LOCATION:Rambla de Catalunya 126\, Barcelona\, Barcelona\, España
ATTACH;FMTTYPE=image/jpeg:http://santcugat.ciudadanos-cs.org/wp-content/uploads/sites/44/2016/02/lr-_CHN0494.jpg
END:VEVENT
BEGIN:VEVENT
DTSTART;TZID=UTC+0:20160226T190000
DTEND;TZID=UTC+0:20160226T200000
DTSTAMP:20260420T181346
CREATED:20160202T100246Z
LAST-MODIFIED:20160202T100246Z
UID:1248-1456513200-1456516800@santcugat.ciudadanos-cs.org
SUMMARY:"Agenda del Regidor" - Exposició 40 anys d'exili Sahaurí
DESCRIPTION:Munia Fernández-Jordán assistirà a l’exposició \n
URL:http://santcugat.ciudadanos-cs.org/evento/agenda-del-regidor-exposicio-40-anys-dexili-sahauri/
LOCATION:Carrer de Castellví\, 8\, Sant Cugat\, Barcelona\, España
ATTACH;FMTTYPE=image/jpeg:http://santcugat.ciudadanos-cs.org/wp-content/uploads/sites/44/2016/02/lr-_CHN3832-redes.jpg
END:VEVENT
BEGIN:VEVENT
DTSTART;TZID=UTC+0:20160226T200000
DTEND;TZID=UTC+0:20160226T230000
DTSTAMP:20260420T181346
CREATED:20160224T103739Z
LAST-MODIFIED:20160224T103739Z
UID:1400-1456516800-1456527600@santcugat.ciudadanos-cs.org
SUMMARY:"Agenda del Regidor" - Día de Andalucia en el Centro Popular Andaluz
DESCRIPTION:Aldo Ciprian\, Sergio Blázquez y Munia Fernández-Jordán assistiran a los actos que el Centro Popular Andaluz ha organizado para festejar el Día de Andalucía \n
URL:http://santcugat.ciudadanos-cs.org/evento/agenda-del-regidor-dia-de-andalucia-en-el-centro-popular-andaluz/
LOCATION:Avda Francesc Macia\, 38\, Sant Cugat\, Barcelona\, España
ATTACH;FMTTYPE=image/jpeg:http://santcugat.ciudadanos-cs.org/wp-content/uploads/sites/44/2016/02/lr-_CHN0646.jpg
END:VEVENT
END:VCALENDAR