BEGIN:VCALENDAR
VERSION:2.0
PRODID:-//Ciutadans | Sant Cugat - ECPv4.6.7//NONSGML v1.0//EN
CALSCALE:GREGORIAN
METHOD:PUBLISH
X-WR-CALNAME:Ciutadans | Sant Cugat
X-ORIGINAL-URL:http://santcugat.ciudadanos-cs.org
X-WR-CALDESC:Events for Ciutadans | Sant Cugat
BEGIN:VEVENT
DTSTART;TZID=UTC+0:20160223T120000
DTEND;TZID=UTC+0:20160223T140000
DTSTAMP:20260420T130632
CREATED:20160222T123654Z
LAST-MODIFIED:20160222T123654Z
UID:1379-1456228800-1456236000@santcugat.ciudadanos-cs.org
SUMMARY:"Agenda del Regidor" - Visita comissaria Mossos d'Esquadra
DESCRIPTION:Aldo Ciprian visita la comissaria dels mossos d’esquadra \n  \n
URL:http://santcugat.ciudadanos-cs.org/evento/agenda-del-regidor-visita-comissaria-mossos-desquadra/
END:VEVENT
END:VCALENDAR