BEGIN:VCALENDAR
VERSION:2.0
PRODID:-//Ciutadans | Sant Cugat - ECPv4.6.7//NONSGML v1.0//EN
CALSCALE:GREGORIAN
METHOD:PUBLISH
X-WR-CALNAME:Ciutadans | Sant Cugat
X-ORIGINAL-URL:http://santcugat.ciudadanos-cs.org
X-WR-CALDESC:Events for Ciutadans | Sant Cugat
BEGIN:VEVENT
DTSTART;TZID=UTC+0:20160220T100000
DTEND;TZID=UTC+0:20160220T120000
DTSTAMP:20260420T074300
CREATED:20160202T100051Z
LAST-MODIFIED:20160202T100051Z
UID:1246-1455962400-1455969600@santcugat.ciudadanos-cs.org
SUMMARY:"Agenda del Regidor" - Dia Internacional Asperger
DESCRIPTION:Munia Fernández- Jordán assistirà als actes de conmemoració d’aquest dia \n
URL:http://santcugat.ciudadanos-cs.org/evento/agenda-del-regidor-dia-internacional-asperger/
LOCATION:pl. d'Octavià\, 1\, Sant Cugat\, España
ATTACH;FMTTYPE=image/jpeg:http://santcugat.ciudadanos-cs.org/wp-content/uploads/sites/44/2016/02/lr-_CHN3832-redes.jpg
END:VEVENT
END:VCALENDAR