BEGIN:VCALENDAR
VERSION:2.0
PRODID:-//Ciutadans | Sant Cugat - ECPv4.6.7//NONSGML v1.0//EN
CALSCALE:GREGORIAN
METHOD:PUBLISH
X-WR-CALNAME:Ciutadans | Sant Cugat
X-ORIGINAL-URL:http://santcugat.ciudadanos-cs.org
X-WR-CALDESC:Events for Ciutadans | Sant Cugat
BEGIN:VEVENT
DTSTART;TZID=UTC+0:20160217T190000
DTEND;TZID=UTC+0:20160217T210000
DTSTAMP:20260420T025215
CREATED:20160202T101456Z
LAST-MODIFIED:20160202T101456Z
UID:1254-1455735600-1455742800@santcugat.ciudadanos-cs.org
SUMMARY:Consell de Barri Centre-Est
DESCRIPTION:Roberto Torrecilla és el representant de Ciutadans al Consell de Barri de Centre-Est \n
URL:http://santcugat.ciudadanos-cs.org/evento/consell-de-barri-centre-est/
LOCATION:Carrer de Castellví\, 8\, Sant Cugat\, Barcelona\, España
ATTACH;FMTTYPE=image/jpeg:http://santcugat.ciudadanos-cs.org/wp-content/uploads/sites/44/2016/01/roberto-torrecilla-color.jpg
END:VEVENT
END:VCALENDAR