BEGIN:VCALENDAR
VERSION:2.0
PRODID:-//Ciutadans | Sant Cugat - ECPv4.6.7//NONSGML v1.0//EN
CALSCALE:GREGORIAN
METHOD:PUBLISH
X-WR-CALNAME:Ciutadans | Sant Cugat
X-ORIGINAL-URL:http://santcugat.ciudadanos-cs.org
X-WR-CALDESC:Events for Ciutadans | Sant Cugat
BEGIN:VEVENT
DTSTART;TZID=UTC+0:20160211T190000
DTEND;TZID=UTC+0:20160211T210000
DTSTAMP:20260419T171951
CREATED:20160209T120929Z
LAST-MODIFIED:20160209T120929Z
UID:1299-1455217200-1455224400@santcugat.ciudadanos-cs.org
SUMMARY:"Agenda del Regidor" - Comissió d'Investigació Costa del Golf
DESCRIPTION:Munia Fernández-Jordán assistirà a la sessió de compareixences de la comissió d’investigació Costa del Golf \n
URL:http://santcugat.ciudadanos-cs.org/evento/agenda-del-regidor-comissio-dinvestigacio-costa-del-golf/
LOCATION:Plaça de la Vila\, 1\, Sant Cugat\, barcelona\, 08172\, España
ATTACH;FMTTYPE=image/jpeg:http://santcugat.ciudadanos-cs.org/wp-content/uploads/sites/44/2016/02/lr-_CHN0750.jpg
END:VEVENT
END:VCALENDAR