BEGIN:VCALENDAR
VERSION:2.0
PRODID:-//Ciutadans | Sant Cugat - ECPv4.6.7//NONSGML v1.0//EN
CALSCALE:GREGORIAN
METHOD:PUBLISH
X-WR-CALNAME:Ciutadans | Sant Cugat
X-ORIGINAL-URL:http://santcugat.ciudadanos-cs.org
X-WR-CALDESC:Events for Ciutadans | Sant Cugat
BEGIN:VEVENT
DTSTART;TZID=UTC+0:20160209T080000
DTEND;TZID=UTC+0:20160209T170000
DTSTAMP:20260419T141256
CREATED:20160209T121143Z
LAST-MODIFIED:20160209T121143Z
UID:1301-1455004800-1455037200@santcugat.ciudadanos-cs.org
SUMMARY:"Agenda del Regidor" - Tertúlia política al Cugat.cat
DESCRIPTION:Sergio Blázquez assisteix a la seva cita setmanal on es debat els temes polítics d’actualitat del municipi. Pots escoltar la tertúlia a partir de les 9:15 am al 91.5 fm o http://www.cugat.cat/directe/ \n
URL:http://santcugat.ciudadanos-cs.org/evento/agenda-del-regidor-tertulia-politica-al-cugat-cat/
LOCATION:Sant Cugat
ATTACH;FMTTYPE=image/jpeg:http://santcugat.ciudadanos-cs.org/wp-content/uploads/sites/44/2016/02/lr-_CHN0745.jpg
END:VEVENT
BEGIN:VEVENT
DTSTART;TZID=UTC+0:20160209T150000
DTEND;TZID=UTC+0:20160209T170000
DTSTAMP:20260419T141256
CREATED:20160209T111217Z
LAST-MODIFIED:20160209T111217Z
UID:1296-1455030000-1455037200@santcugat.ciudadanos-cs.org
SUMMARY:"Agenda del Regidor" - Reunió amb el Comité d'Empresa de DELPHI
DESCRIPTION:Aldo Ciprian\, junt amb la resta de portaveus de l’oposició i l’alcaldessa es reuniràn amb el comité d’empresa de DELPHI per valorar la situació de la companyia. \n
URL:http://santcugat.ciudadanos-cs.org/evento/agenda-del-regidor-reunio-amb-el-comite-dempresa-de-delphi/
LOCATION:Plaça de la Vila\, 1\, Sant Cugat\, barcelona\, 08172\, España
ATTACH;FMTTYPE=image/jpeg:http://santcugat.ciudadanos-cs.org/wp-content/uploads/sites/44/2016/02/delphi_acn.jpg
END:VEVENT
END:VCALENDAR