BEGIN:VCALENDAR
VERSION:2.0
PRODID:-//Ciutadans | Sant Cugat - ECPv4.6.7//NONSGML v1.0//EN
CALSCALE:GREGORIAN
METHOD:PUBLISH
X-WR-CALNAME:Ciutadans | Sant Cugat
X-ORIGINAL-URL:http://santcugat.ciudadanos-cs.org
X-WR-CALDESC:Events for Ciutadans | Sant Cugat
BEGIN:VEVENT
DTSTART;TZID=UTC+0:20160208T200000
DTEND;TZID=UTC+0:20160208T210000
DTSTAMP:20260419T124526
CREATED:20160202T100330Z
LAST-MODIFIED:20160202T100330Z
UID:1249-1454961600-1454965200@santcugat.ciudadanos-cs.org
SUMMARY:Grup de Treball Manteniment i Movilitat Mira-Sol
DESCRIPTION:
URL:http://santcugat.ciudadanos-cs.org/evento/grup-de-treball-manteniment-i-movilitat-mira-sol/
LOCATION:Carrer de Mallorca\, 42\, Sant Cugat
END:VEVENT
END:VCALENDAR