BEGIN:VCALENDAR
VERSION:2.0
PRODID:-//Ciutadans | Sant Cugat - ECPv4.6.7//NONSGML v1.0//EN
CALSCALE:GREGORIAN
METHOD:PUBLISH
X-WR-CALNAME:Ciutadans | Sant Cugat
X-ORIGINAL-URL:http://santcugat.ciudadanos-cs.org
X-WR-CALDESC:Events for Ciutadans | Sant Cugat
BEGIN:VEVENT
DTSTART;TZID=UTC+0:20160128T100000
DTEND;TZID=UTC+0:20160128T120000
DTSTAMP:20260419T171951
CREATED:20160126T102735Z
LAST-MODIFIED:20160126T102735Z
UID:1188-1453975200-1453982400@santcugat.ciudadanos-cs.org
SUMMARY:Atención Ciudadana Aldo Ciprian
DESCRIPTION:Todos los jueves de 10-12h nuestro portavoz esta disponible para atender cualquier propuesta ciudadana en las oficinas del Grupo Municipal en el Ayuntamiento de Sant Cugat. \nPara ver todos los horarios haz clic aquí \n
URL:http://santcugat.ciudadanos-cs.org/evento/atencion-ciudadana-aldo-ciprian/
LOCATION:Plaça de la Vila\, 1\, Sant Cugat\, barcelona\, 08172\, España
ATTACH;FMTTYPE=image/jpeg:http://santcugat.ciudadanos-cs.org/wp-content/uploads/sites/44/2016/01/lr-_CHN3534-2-redes.jpg
END:VEVENT
BEGIN:VEVENT
DTSTART;TZID=UTC+0:20160128T170000
DTEND;TZID=UTC+0:20160128T200000
DTSTAMP:20260419T171951
CREATED:20160126T155100Z
LAST-MODIFIED:20160126T155100Z
UID:1192-1454000400-1454011200@santcugat.ciudadanos-cs.org
SUMMARY:Comissió reforma ROM Valldoreix
DESCRIPTION:Susanna Casta assistirà a la comissió per reformar el ROM a l’EMD de Valldoreix \n
URL:http://santcugat.ciudadanos-cs.org/evento/comissio-reforma-rom-valldoreix/
LOCATION:Mossen Jacint Verdaguer 182\, Sant Cugat\, barcelona\, España
ATTACH;FMTTYPE=image/png:http://santcugat.ciudadanos-cs.org/wp-content/uploads/sites/44/2016/01/casta-perfil1.png
END:VEVENT
BEGIN:VEVENT
DTSTART;TZID=UTC+0:20160128T173000
DTEND;TZID=UTC+0:20160128T190000
DTSTAMP:20260419T171951
CREATED:20160126T154708Z
LAST-MODIFIED:20160126T154708Z
UID:1191-1454002200-1454007600@santcugat.ciudadanos-cs.org
SUMMARY:Comissió Investigació Costa del Golf
DESCRIPTION:Munia Fernández-Jordán assistirà a la sessió de la comissió d’investigació de la Costa del Golf \n
URL:http://santcugat.ciudadanos-cs.org/evento/comissio-investigacio-costa-del-golf/
LOCATION:Plaça de la Vila\, 1\, Sant Cugat\, barcelona\, 08172\, España
ATTACH;FMTTYPE=image/jpeg:http://santcugat.ciudadanos-cs.org/wp-content/uploads/sites/44/2016/01/lr-_CHN3841-redes.jpg
END:VEVENT
BEGIN:VEVENT
DTSTART;TZID=UTC+0:20160128T190000
DTEND;TZID=UTC+0:20160128T200000
DTSTAMP:20260419T171951
CREATED:20160126T100757Z
LAST-MODIFIED:20160126T100757Z
UID:1186-1454007600-1454011200@santcugat.ciudadanos-cs.org
SUMMARY:Segona sessió grup de treball cannàbis
DESCRIPTION:Aldo Ciprian assistirà a la segona sessió del grup de treball de cannàbis impulsat per Ciutadans per resoldre la problemàtica veïnal que suposa incorporar un club de cannàbis a la ciutat  \n
URL:http://santcugat.ciudadanos-cs.org/evento/segona-sessio-grup-de-treball-cannabis/
LOCATION:barcelona
ATTACH;FMTTYPE=image/jpeg:http://santcugat.ciudadanos-cs.org/wp-content/uploads/sites/44/2016/01/lr-_CHN3534-2-redes.jpg
END:VEVENT
END:VCALENDAR