BEGIN:VCALENDAR
VERSION:2.0
PRODID:-//Ciutadans | Sant Cugat - ECPv4.6.7//NONSGML v1.0//EN
CALSCALE:GREGORIAN
METHOD:PUBLISH
X-WR-CALNAME:Ciutadans | Sant Cugat
X-ORIGINAL-URL:http://santcugat.ciudadanos-cs.org
X-WR-CALDESC:Events for Ciutadans | Sant Cugat
BEGIN:VEVENT
DTSTART;TZID=UTC+0:20160127T091500
DTEND;TZID=UTC+0:20160127T100000
DTSTAMP:20260419T190054
CREATED:20160126T104516Z
LAST-MODIFIED:20160126T104516Z
UID:1190-1453886100-1453888800@santcugat.ciudadanos-cs.org
SUMMARY:Tertúlia política Cugat.cat
DESCRIPTION:Sergio Blázquez assiteix a la tertúlia setmanal a la ràdio. La pots seguir en directe a http://www.cugat.cat/radio o al 91.5fm \n
URL:http://santcugat.ciudadanos-cs.org/evento/tertulia-politica-cugat-cat/
LOCATION:Sant Cugat
ATTACH;FMTTYPE=image/jpeg:http://santcugat.ciudadanos-cs.org/wp-content/uploads/sites/44/2015/12/lr-_CHN3830-redes.jpg
END:VEVENT
BEGIN:VEVENT
DTSTART;TZID=UTC+0:20160127T110000
DTEND;TZID=UTC+0:20160127T130000
DTSTAMP:20260419T190054
CREATED:20160126T103418Z
LAST-MODIFIED:20160126T103418Z
UID:1189-1453892400-1453899600@santcugat.ciudadanos-cs.org
SUMMARY:Atención Ciudadana Munia Fernández-Jordán
DESCRIPTION:\nTodos los miércoles de 11-13h nuestra regidora está disponible para atender cualquier propuesta ciudadana en las oficinas del Grupo Municipal en el Ayuntamiento de Sant Cugat. \nPara ver todos los horarios haz clic aquí \n\n
URL:http://santcugat.ciudadanos-cs.org/evento/atencion-ciudadana-munia-fernandez-jordan/
LOCATION:Plaça de la Vila\, 1\, Sant Cugat\, barcelona\, 08172\, España
ATTACH;FMTTYPE=image/jpeg:http://santcugat.ciudadanos-cs.org/wp-content/uploads/sites/44/2016/01/lr-_CHN3841-redes.jpg
END:VEVENT
BEGIN:VEVENT
DTSTART;TZID=UTC+0:20160127T190000
DTEND;TZID=UTC+0:20160127T210000
DTSTAMP:20260419T190054
CREATED:20160114T200644Z
LAST-MODIFIED:20160122T131821Z
UID:1119-1453921200-1453928400@santcugat.ciudadanos-cs.org
SUMMARY:Consell de Barri Les Planes
DESCRIPTION:Munia Fernández-Jordán assistirà com a representant de Ciutadans a la segona sessió del Consell de Barri de Les Planes \n
URL:http://santcugat.ciudadanos-cs.org/evento/consell-de-barri-les-planes/
LOCATION:Sant Cugat\, barcelona\, España
ATTACH;FMTTYPE=image/jpeg:http://santcugat.ciudadanos-cs.org/wp-content/uploads/sites/44/2015/06/foto-munia-jordan-web.jpg
END:VEVENT
END:VCALENDAR