BEGIN:VCALENDAR
VERSION:2.0
PRODID:-//Ciutadans | Sant Cugat - ECPv4.6.7//NONSGML v1.0//EN
CALSCALE:GREGORIAN
METHOD:PUBLISH
X-WR-CALNAME:Ciutadans | Sant Cugat
X-ORIGINAL-URL:http://santcugat.ciudadanos-cs.org
X-WR-CALDESC:Events for Ciutadans | Sant Cugat
BEGIN:VEVENT
DTSTART;TZID=UTC+0:20160122T193000
DTEND;TZID=UTC+0:20160122T210000
DTSTAMP:20260420T030223
CREATED:20160122T132948Z
LAST-MODIFIED:20160122T132948Z
UID:1173-1453491000-1453496400@santcugat.ciudadanos-cs.org
SUMMARY:Agenda del Regidor "Exposició del Centenari Sant Cugat Esport\, F.C"
DESCRIPTION:Aldo Ciprian assitirà a l’Exposició del Centenari\, passat i present del club \n
URL:http://santcugat.ciudadanos-cs.org/evento/agenda-del-regidor-exposicio-del-centenari-sant-cugat-esport-f-c/
LOCATION:Carrer de Castellví\, 8\, Sant Cugat\, Barcelona\, España
ATTACH;FMTTYPE=image/png:http://santcugat.ciudadanos-cs.org/wp-content/uploads/sites/44/2016/01/SANT-CUGAT-ESPORT1.png
END:VEVENT
END:VCALENDAR