BEGIN:VCALENDAR
VERSION:2.0
PRODID:-//Ciutadans | Sant Cugat - ECPv4.6.7//NONSGML v1.0//EN
CALSCALE:GREGORIAN
METHOD:PUBLISH
X-WR-CALNAME:Ciutadans | Sant Cugat
X-ORIGINAL-URL:http://santcugat.ciudadanos-cs.org
X-WR-CALDESC:Events for Ciutadans | Sant Cugat
BEGIN:VEVENT
DTSTART;TZID=UTC+0:20160118T183000
DTEND;TZID=UTC+0:20160118T230000
DTSTAMP:20260420T094554
CREATED:20160114T200537Z
LAST-MODIFIED:20160114T200537Z
UID:1117-1453141800-1453158000@santcugat.ciudadanos-cs.org
SUMMARY:Ple de gener
DESCRIPTION:Aquestes son les propostes que presentarem en el proper ple que tindrà lloc a l’Ajuntament de Sant Cugat el 18 de gener \n
URL:http://santcugat.ciudadanos-cs.org/evento/ple-de-gener/
LOCATION:Plaça de la Vila\, 1\, Sant Cugat\, barcelona\, 08172\, España
ATTACH;FMTTYPE=image/jpeg:http://santcugat.ciudadanos-cs.org/wp-content/uploads/sites/44/2016/01/lr-_CHN3643-2-baja.jpg
END:VEVENT
END:VCALENDAR