BEGIN:VCALENDAR
VERSION:2.0
PRODID:-//Ciutadans | Sant Cugat - ECPv4.6.7//NONSGML v1.0//EN
CALSCALE:GREGORIAN
METHOD:PUBLISH
X-WR-CALNAME:Ciutadans | Sant Cugat
X-ORIGINAL-URL:http://santcugat.ciudadanos-cs.org
X-WR-CALDESC:Events for Ciutadans | Sant Cugat
BEGIN:VEVENT
DTSTART;TZID=UTC+0:20160114T190000
DTEND;TZID=UTC+0:20160114T220000
DTSTAMP:20260420T165045
CREATED:20151228T122516Z
LAST-MODIFIED:20151228T122516Z
UID:1054-1452798000-1452808800@santcugat.ciudadanos-cs.org
SUMMARY:Consell de Barri Centre-Oest
DESCRIPTION:Sergio Blázquez assistirà com a representant del grup municipal de Ciutadans a la segona sessió del Consell de Barri de Centre-Oest el pròxim dijous 14 de gener \n
URL:http://santcugat.ciudadanos-cs.org/evento/consell-de-barri-centre-oest/
LOCATION:Plaça Barcelona
ATTACH;FMTTYPE=image/jpeg:http://santcugat.ciudadanos-cs.org/wp-content/uploads/sites/44/2015/12/lr-_CHN3830-redes.jpg
END:VEVENT
END:VCALENDAR