BEGIN:VCALENDAR
VERSION:2.0
PRODID:-//Ciutadans | Sant Cugat - ECPv4.6.7//NONSGML v1.0//EN
CALSCALE:GREGORIAN
METHOD:PUBLISH
X-WR-CALNAME:Ciutadans | Sant Cugat
X-ORIGINAL-URL:http://santcugat.ciudadanos-cs.org
X-WR-CALDESC:Events for Ciutadans | Sant Cugat
BEGIN:VEVENT
DTSTART;TZID=UTC+0:20151222T190000
DTEND;TZID=UTC+0:20151222T210000
DTSTAMP:20260422T064621
CREATED:20151217T181751Z
LAST-MODIFIED:20151217T181751Z
UID:1038-1450810800-1450818000@santcugat.ciudadanos-cs.org
SUMMARY:Acte de presentació dels nous suports multimèdia per a televisions connectades
DESCRIPTION:En aquest acte es presentarà la nova imatge corporativa de Cugat.cat així com noves app per a televisions connectades \n
URL:http://santcugat.ciudadanos-cs.org/evento/acte-de-presentacio-dels-nous-suports-multimedia-per-a-televisions-connectades/
LOCATION:Avda Torre Blanca\, 57\, Sant Cugat\, Barcelona\, España
END:VEVENT
END:VCALENDAR