BEGIN:VCALENDAR
VERSION:2.0
PRODID:-//Ciutadans | Sant Cugat - ECPv4.6.7//NONSGML v1.0//EN
CALSCALE:GREGORIAN
METHOD:PUBLISH
X-WR-CALNAME:Ciutadans | Sant Cugat
X-ORIGINAL-URL:http://santcugat.ciudadanos-cs.org
X-WR-CALDESC:Events for Ciutadans | Sant Cugat
BEGIN:VEVENT
DTSTART;TZID=UTC+0:20151221T183000
DTEND;TZID=UTC+0:20151221T230000
DTSTAMP:20260422T100243
CREATED:20151217T165242Z
LAST-MODIFIED:20151217T165242Z
UID:1027-1450722600-1450738800@santcugat.ciudadanos-cs.org
SUMMARY:Ple 21 de desembre
DESCRIPTION:Dilluns 21 de desembre se celebrarà el ple ordinari a l’Ajuntament de Sant Cugat on Ciutadans presentarà dues mocions \n
URL:http://santcugat.ciudadanos-cs.org/evento/ple-21-de-desembre/
LOCATION:Plaça de la Vila\, 1\, Sant Cugat\, barcelona\, 08172\, España
END:VEVENT
END:VCALENDAR