BEGIN:VCALENDAR
VERSION:2.0
PRODID:-//Ciutadans | Sant Cugat - ECPv4.6.7//NONSGML v1.0//EN
CALSCALE:GREGORIAN
METHOD:PUBLISH
X-WR-CALNAME:Ciutadans | Sant Cugat
X-ORIGINAL-URL:http://santcugat.ciudadanos-cs.org
X-WR-CALDESC:Events for Ciutadans | Sant Cugat
BEGIN:VEVENT
DTSTART;TZID=UTC+0:20151216T100000
DTEND;TZID=UTC+0:20151216T120000
DTSTAMP:20260422T182601
CREATED:20151204T094258Z
LAST-MODIFIED:20151204T094258Z
UID:983-1450260000-1450267200@santcugat.ciudadanos-cs.org
SUMMARY:"Agenda Electoral" - Entrevista Televisió Sant Cugat a Aldo Ciprian
DESCRIPTION:
URL:http://santcugat.ciudadanos-cs.org/evento/agenda-electoral-entrevista-televisio-sant-cugat-a-aldo-ciprian/
LOCATION:Barcelona\, España
ATTACH;FMTTYPE=image/jpeg:http://santcugat.ciudadanos-cs.org/wp-content/uploads/sites/44/2015/10/lr-_CHN3534-2-redes.jpg
END:VEVENT
BEGIN:VEVENT
DTSTART;TZID=UTC+0:20151216T210000
DTEND;TZID=UTC+0:20151216T210000
DTSTAMP:20260422T182601
CREATED:20151204T094154Z
LAST-MODIFIED:20151204T094154Z
UID:982-1450299600-1450299600@santcugat.ciudadanos-cs.org
SUMMARY:"Agenda Electoral" - Mesa Informativa en la Plaça Quatre Cantons
DESCRIPTION:
URL:http://santcugat.ciudadanos-cs.org/evento/agenda-electoral-mesa-informativa-en-la-placa-quatre-cantons/
LOCATION:Plaça Quatre Cantons\, Sant Cugat\, Barcelona\, España
END:VEVENT
END:VCALENDAR