BEGIN:VCALENDAR
VERSION:2.0
PRODID:-//Ciutadans | Sant Cugat - ECPv4.6.7//NONSGML v1.0//EN
CALSCALE:GREGORIAN
METHOD:PUBLISH
X-WR-CALNAME:Ciutadans | Sant Cugat
X-ORIGINAL-URL:http://santcugat.ciudadanos-cs.org
X-WR-CALDESC:Events for Ciutadans | Sant Cugat
BEGIN:VEVENT
DTSTART;TZID=UTC+0:20151214T190000
DTEND;TZID=UTC+0:20151214T210000
DTSTAMP:20260422T215054
CREATED:20151204T094053Z
LAST-MODIFIED:20151204T094053Z
UID:981-1450119600-1450126800@santcugat.ciudadanos-cs.org
SUMMARY:"Agenda Electoral" - Debat Cugat.cat
DESCRIPTION:
URL:http://santcugat.ciudadanos-cs.org/evento/agenda-electoral-debat-cugat-cat/
LOCATION:Carrer de Castellví\, 8\, Sant Cugat\, Barcelona\, España
END:VEVENT
END:VCALENDAR