BEGIN:VCALENDAR
VERSION:2.0
PRODID:-//Ciutadans | Sant Cugat - ECPv4.6.7//NONSGML v1.0//EN
CALSCALE:GREGORIAN
METHOD:PUBLISH
X-WR-CALNAME:Ciutadans | Sant Cugat
X-ORIGINAL-URL:http://santcugat.ciudadanos-cs.org
X-WR-CALDESC:Events for Ciutadans | Sant Cugat
BEGIN:VEVENT
DTSTART;TZID=UTC+0:20151211T190000
DTEND;TZID=UTC+0:20151211T230000
DTSTAMP:20260423T064626
CREATED:20151125T175008Z
LAST-MODIFIED:20151125T175008Z
UID:932-1449860400-1449874800@santcugat.ciudadanos-cs.org
SUMMARY:"Agenda del Concejal" - Nit de l'Esport a Sant Cugat
DESCRIPTION:Aldo Ciprian i Sergio Blázquez assistiran a la 19e nit de l’esport a Sant Cugat \n
URL:http://santcugat.ciudadanos-cs.org/evento/agenda-del-concejal-nit-de-lesport-a-sant-cugat/
LOCATION:Av. Alcalde Barnils\, 3-5\, Sant Cugat
ATTACH;FMTTYPE=image/jpeg:http://santcugat.ciudadanos-cs.org/wp-content/uploads/sites/44/2015/11/nit-de-lesport.jpg
END:VEVENT
END:VCALENDAR