BEGIN:VCALENDAR
VERSION:2.0
PRODID:-//Ciutadans | Sant Cugat - ECPv4.6.7//NONSGML v1.0//EN
CALSCALE:GREGORIAN
METHOD:PUBLISH
X-WR-CALNAME:Ciutadans | Sant Cugat
X-ORIGINAL-URL:http://santcugat.ciudadanos-cs.org
X-WR-CALDESC:Events for Ciutadans | Sant Cugat
BEGIN:VEVENT
DTSTART;TZID=UTC+0:20151210T090000
DTEND;TZID=UTC+0:20151210T093000
DTSTAMP:20260423T081427
CREATED:20151204T093509Z
LAST-MODIFIED:20151204T093509Z
UID:976-1449738000-1449739800@santcugat.ciudadanos-cs.org
SUMMARY:"Agenda Electoral" - Entrevista Cugat.cat con Aldo Ciprian
DESCRIPTION:Aldo Ciprian\, portavoz de C’s en Sant Cugat\, será entrevistado por Cugat TV en el contexto de las elecciones generales \n
URL:http://santcugat.ciudadanos-cs.org/evento/agenda-electoral-entrevista-cugat-cat-con-aldo-ciprian/
LOCATION:Sant Cugat
ATTACH;FMTTYPE=image/jpeg:http://santcugat.ciudadanos-cs.org/wp-content/uploads/sites/44/2015/10/lr-_CHN3534-2-redes.jpg
END:VEVENT
BEGIN:VEVENT
DTSTART;TZID=UTC+0:20151210T200000
DTEND;TZID=UTC+0:20151210T220000
DTSTAMP:20260423T081427
CREATED:20151204T094430Z
LAST-MODIFIED:20151204T094430Z
UID:984-1449777600-1449784800@santcugat.ciudadanos-cs.org
SUMMARY:"Agenda del Concejal" - Consell de Barri de La Floresta
DESCRIPTION:Aldo Ciprian representará a C’s en el Consell de Barri de La Floresta \n
URL:http://santcugat.ciudadanos-cs.org/evento/agenda-del-concejal-consell-de-barri-de-la-floresta/
END:VEVENT
END:VCALENDAR