BEGIN:VCALENDAR
VERSION:2.0
PRODID:-//Ciutadans | Sant Cugat - ECPv4.6.7//NONSGML v1.0//EN
CALSCALE:GREGORIAN
METHOD:PUBLISH
X-WR-CALNAME:Ciutadans | Sant Cugat
X-ORIGINAL-URL:http://santcugat.ciudadanos-cs.org
X-WR-CALDESC:Events for Ciutadans | Sant Cugat
BEGIN:VEVENT
DTSTART;TZID=UTC+0:20151128T100000
DTEND;TZID=UTC+0:20151128T120000
DTSTAMP:20260424T041009
CREATED:20151125T180439Z
LAST-MODIFIED:20151125T180439Z
UID:940-1448704800-1448712000@santcugat.ciudadanos-cs.org
SUMMARY:"Agenda del Concejal" - Tercera sessió de participació de Places de La Floresta
DESCRIPTION:Munia Fernández-Jordán assistirà a la tercera sessió de participació ciutadana per remodelar les places de la Floresta \n
URL:http://santcugat.ciudadanos-cs.org/evento/agenda-del-concejal-tercera-sessio-de-participacio-de-places-de-la-floresta/
LOCATION:Carrer del Casino\, 27 \, Sant Cugat
ATTACH;FMTTYPE=image/jpeg:http://santcugat.ciudadanos-cs.org/wp-content/uploads/sites/44/2015/10/lr-_CHN3832-redes.jpg
END:VEVENT
BEGIN:VEVENT
DTSTART;TZID=UTC+0:20151128T140000
DTEND;TZID=UTC+0:20151128T160000
DTSTAMP:20260424T041009
CREATED:20151125T180656Z
LAST-MODIFIED:20151125T180656Z
UID:941-1448719200-1448726400@santcugat.ciudadanos-cs.org
SUMMARY:"Agenda del Concejal" - Potage de la amistad en el Centro Andaluz
DESCRIPTION:Munia Fernández-Jordán assistirà al «potage de la amistad» organitzat pel «Centro Andaluz» \n
URL:http://santcugat.ciudadanos-cs.org/evento/agenda-del-concejal-potage-de-la-amistad-en-el-centro-andaluz/
ATTACH;FMTTYPE=image/jpeg:http://santcugat.ciudadanos-cs.org/wp-content/uploads/sites/44/2015/10/lr-_CHN3832-redes.jpg
END:VEVENT
END:VCALENDAR