BEGIN:VCALENDAR
VERSION:2.0
PRODID:-//Ciutadans | Sant Cugat - ECPv4.6.7//NONSGML v1.0//EN
CALSCALE:GREGORIAN
METHOD:PUBLISH
X-WR-CALNAME:Ciutadans | Sant Cugat
X-ORIGINAL-URL:http://santcugat.ciudadanos-cs.org
X-WR-CALDESC:Events for Ciutadans | Sant Cugat
BEGIN:VEVENT
DTSTART;TZID=UTC+0:20151127T130000
DTEND;TZID=UTC+0:20151127T150000
DTSTAMP:20260424T053727
CREATED:20151125T175752Z
LAST-MODIFIED:20151125T175752Z
UID:937-1448629200-1448636400@santcugat.ciudadanos-cs.org
SUMMARY:"Agenda del Concejal" - Ple Extraordinari Aprovació Pressupostos 2016
DESCRIPTION:Aquí podreu veure la nostra proposta per als pressupostos de 2016 \n
URL:http://santcugat.ciudadanos-cs.org/evento/agenda-del-concejal-ple-extraordinari-aprovacio-pressupostos-2016/
LOCATION:Plaça de la Vila\, 1\, Sant Cugat\, barcelona\, 08172\, España
END:VEVENT
BEGIN:VEVENT
DTSTART;TZID=UTC+0:20151127T180000
DTEND;TZID=UTC+0:20151127T200000
DTSTAMP:20260424T053727
CREATED:20151116T120805Z
LAST-MODIFIED:20151116T120805Z
UID:878-1448647200-1448654400@santcugat.ciudadanos-cs.org
SUMMARY:"Agenda del Concejal" - Reunió Consell d'Administració de PROMUSA
DESCRIPTION:Gemma Vivancos\, assesora d’urbanisme del grup municipal\, assistirà com a representant de C’s \n
URL:http://santcugat.ciudadanos-cs.org/evento/agenda-del-concejal-reunio-consell-dadministracio-de-promusa/
LOCATION:Plaça de la Vila\, 1\, Sant Cugat\, barcelona\, 08172\, España
END:VEVENT
BEGIN:VEVENT
DTSTART;TZID=UTC+0:20151127T180000
DTEND;TZID=UTC+0:20151127T210000
DTSTAMP:20260424T053727
CREATED:20151125T181232Z
LAST-MODIFIED:20151125T181232Z
UID:942-1448647200-1448658000@santcugat.ciudadanos-cs.org
SUMMARY:"Agenda del Concejal" - Sessió de nouvinguts
DESCRIPTION:Aldo Ciprian assistirà a la sessió dels nouvinguts al municipi \n
URL:http://santcugat.ciudadanos-cs.org/evento/agenda-del-concejal-sessio-de-nouvinguts/
LOCATION:Plaça de la Vila\, 1\, Sant Cugat\, barcelona\, 08172\, España
ATTACH;FMTTYPE=image/jpeg:http://santcugat.ciudadanos-cs.org/wp-content/uploads/sites/44/2015/10/lr-_CHN3854-redes.jpg
END:VEVENT
END:VCALENDAR