BEGIN:VCALENDAR
VERSION:2.0
PRODID:-//Ciutadans | Sant Cugat - ECPv4.6.7//NONSGML v1.0//EN
CALSCALE:GREGORIAN
METHOD:PUBLISH
X-WR-CALNAME:Ciutadans | Sant Cugat
X-ORIGINAL-URL:http://santcugat.ciudadanos-cs.org
X-WR-CALDESC:Events for Ciutadans | Sant Cugat
BEGIN:VEVENT
DTSTART;TZID=UTC+0:20151108T090000
DTEND;TZID=UTC+0:20151108T140000
DTSTAMP:20260425T114626
CREATED:20151103T113552Z
LAST-MODIFIED:20151103T113552Z
UID:815-1446973200-1446991200@santcugat.ciudadanos-cs.org
SUMMARY:"Agenda del Concejal" - 17è Cros Ciutat de Sant Cugat
DESCRIPTION:Sergio Blázquez assistirà al cros de la ciutat de Sant Cugat. \nPer a més informació podeu consultar aquí:http://santcugat.cat/activitat/17e-cros-ciutat-de-sant-cugat  \n
URL:http://santcugat.ciudadanos-cs.org/evento/agenda-del-concejal-17e-cros-ciutat-de-sant-cugat/
LOCATION:Rambla del Celler \, Sant Cugat\, Barcelona\, España
ATTACH;FMTTYPE=image/jpeg:http://santcugat.ciudadanos-cs.org/wp-content/uploads/sites/44/2015/11/cross.jpg
END:VEVENT
END:VCALENDAR