BEGIN:VCALENDAR
VERSION:2.0
PRODID:-//Ciutadans | Sant Cugat - ECPv4.6.7//NONSGML v1.0//EN
CALSCALE:GREGORIAN
METHOD:PUBLISH
X-WR-CALNAME:Ciutadans | Sant Cugat
X-ORIGINAL-URL:http://santcugat.ciudadanos-cs.org
X-WR-CALDESC:Events for Ciutadans | Sant Cugat
BEGIN:VEVENT
DTSTART;TZID=UTC+0:20151107T113000
DTEND;TZID=UTC+0:20151107T130000
DTSTAMP:20260425T132009
CREATED:20151103T113829Z
LAST-MODIFIED:20151103T165558Z
UID:818-1446895800-1446901200@santcugat.ciudadanos-cs.org
SUMMARY:Acto en Cadiz - Presentación de nuestra reforma democrática e institucional de España
DESCRIPTION:Este sábado 07 de noviembre se presenta en Cadiz el programa electoral de Ciudadanos para las elecciones generales el 20 de diciembre. \n
URL:http://santcugat.ciudadanos-cs.org/evento/acto-en-cadiz-presentacion-de-nuestra-reforma-democratica-e-institucional-de-espana/
LOCATION:C/Placia s/n\, Cadiz\, Cadiz\, España
ATTACH;FMTTYPE=image/jpeg:http://santcugat.ciudadanos-cs.org/wp-content/uploads/sites/44/2015/11/acto-en-cadiz.jpg
END:VEVENT
END:VCALENDAR