BEGIN:VCALENDAR
VERSION:2.0
PRODID:-//Ciutadans | Sant Cugat - ECPv4.6.7//NONSGML v1.0//EN
CALSCALE:GREGORIAN
METHOD:PUBLISH
X-WR-CALNAME:Ciutadans | Sant Cugat
X-ORIGINAL-URL:http://santcugat.ciudadanos-cs.org
X-WR-CALDESC:Events for Ciutadans | Sant Cugat
BEGIN:VEVENT
DTSTART;TZID=UTC+0:20151028T200000
DTEND;TZID=UTC+0:20151029T200000
DTSTAMP:20260425T143915
CREATED:20151028T095602Z
LAST-MODIFIED:20151028T095602Z
UID:774-1446062400-1446148800@santcugat.ciudadanos-cs.org
SUMMARY:Votaciones Primarias Senado Ciutadans
DESCRIPTION:Desde las 20:00 del miércoles 28 de octubre hasta las 20:00 del jueves 29 de octubre\, todo afiliado de Ciutadans que lleve más de 6 meses\, puede votar a su candidato para el Senado aquí \n
URL:http://santcugat.ciudadanos-cs.org/evento/votaciones-primarias-senado-ciutadans/
END:VEVENT
END:VCALENDAR