BEGIN:VCALENDAR
VERSION:2.0
PRODID:-//Ciutadans | Sant Cugat - ECPv4.6.7//NONSGML v1.0//EN
CALSCALE:GREGORIAN
METHOD:PUBLISH
X-WR-CALNAME:Ciutadans | Sant Cugat
X-ORIGINAL-URL:http://santcugat.ciudadanos-cs.org
X-WR-CALDESC:Events for Ciutadans | Sant Cugat
BEGIN:VEVENT
DTSTART;TZID=UTC+0:20150921T183000
DTEND;TZID=UTC+0:20150921T230000
DTSTAMP:20260424T225734
CREATED:20150919T181540Z
LAST-MODIFIED:20150919T181540Z
UID:430-1442860200-1442876400@santcugat.ciudadanos-cs.org
SUMMARY:Pleno 21 de Septiembre
DESCRIPTION:En este pleno\, C’s propondrá las siguientes mociones: \n– Crear una comisión donde se investigue los contratos públicos hechos por el Ayuntamiento de Sant Cugat desde el año 2000 http://santcugat.ciudadanos-cs.org/2015/09/18/cs-propone-crear-comision-investigar-contratos-publicos-ano-2000/ \n– Constituir un grupo de trabajo para regular las asociaciones y clubs de cannabis  \nhttp://santcugat.ciudadanos-cs.org/2015/09/19/cs-proposa-la-constitucio-dun-grup-de-treball-sobre-la-regulacio-dels-clubs-i-associacions-de-cannabis/ \n
URL:http://santcugat.ciudadanos-cs.org/evento/pleno-21-de-septiembre/
LOCATION:Plaça de la Vila\, 1\, Sant Cugat\, barcelona\, 08172\, España
ATTACH;FMTTYPE=image/jpeg:http://santcugat.ciudadanos-cs.org/wp-content/uploads/sites/44/2015/09/grupo-de-trabajo-cannabis.jpg
END:VEVENT
END:VCALENDAR