BEGIN:VCALENDAR
VERSION:2.0
PRODID:-//Ciutadans | Sant Cugat - ECPv4.6.7//NONSGML v1.0//EN
CALSCALE:GREGORIAN
METHOD:PUBLISH
X-WR-CALNAME:Ciutadans | Sant Cugat
X-ORIGINAL-URL:http://santcugat.ciudadanos-cs.org
X-WR-CALDESC:Events for Ciutadans | Sant Cugat
BEGIN:VEVENT
DTSTART;TZID=UTC+0:20150921T093000
DTEND;TZID=UTC+0:20150921T230000
DTSTAMP:20260425T003833
CREATED:20150914T140921Z
LAST-MODIFIED:20150914T140921Z
UID:388-1442827800-1442876400@santcugat.ciudadanos-cs.org
SUMMARY:Entrevista José Maria Espejo-Saavedra Cugat.cat
DESCRIPTION:És retransmetrà en directe pel 91.5FM\, emisora del Cugat.cat \n
URL:http://santcugat.ciudadanos-cs.org/evento/entrevista-jose-maria-espejo-saavedra-cugat-cat/
LOCATION:Sant Cugat
ATTACH;FMTTYPE=image/jpeg:http://santcugat.ciudadanos-cs.org/wp-content/uploads/sites/44/2015/09/José-María-Espejo-Saavedra.jpg
END:VEVENT
END:VCALENDAR