BEGIN:VCALENDAR
VERSION:2.0
PRODID:-//Ciutadans | Sant Cugat - ECPv4.6.7//NONSGML v1.0//EN
CALSCALE:GREGORIAN
METHOD:PUBLISH
X-WR-CALNAME:Ciutadans | Sant Cugat
X-ORIGINAL-URL:http://santcugat.ciudadanos-cs.org
X-WR-CALDESC:Events for Ciutadans | Sant Cugat
BEGIN:VEVENT
DTSTART;TZID=UTC+0:20151029T170000
DTEND;TZID=UTC+0:20151029T220000
DTSTAMP:20260425T161938
CREATED:20151027T151152Z
LAST-MODIFIED:20151027T151152Z
UID:764-1446138000-1446156000@santcugat.ciudadanos-cs.org
SUMMARY:Cinema d'autor. "Chiisai Ouchi" 
DESCRIPTION:Per a més informació : http://www.santcugat.cat/activitat/cinema-dautor-chiisai-ouchi \n
URL:http://santcugat.ciudadanos-cs.org/evento/cinema-dautor-chiisai-ouchi/
LOCATION:Av. Pla del Vinyet\, 57\, Sant Cugat\, Barcelona\, España
ATTACH;FMTTYPE=image/jpeg:http://santcugat.ciudadanos-cs.org/wp-content/uploads/sites/44/2015/10/chiisai_ouchi.jpg
END:VEVENT
END:VCALENDAR