BEGIN:VCALENDAR
VERSION:2.0
PRODID:-//Ciutadans | Sant Cugat - ECPv4.6.7//NONSGML v1.0//EN
CALSCALE:GREGORIAN
METHOD:PUBLISH
X-WR-CALNAME:Ciutadans | Sant Cugat
X-ORIGINAL-URL:http://santcugat.ciudadanos-cs.org
X-WR-CALDESC:Events for Ciutadans | Sant Cugat
BEGIN:VEVENT
DTSTART;TZID=UTC+0:20151027T190000
DTEND;TZID=UTC+0:20151027T210000
DTSTAMP:20260425T130519
CREATED:20151027T150700Z
LAST-MODIFIED:20151027T150700Z
UID:763-1445972400-1445979600@santcugat.ciudadanos-cs.org
SUMMARY:"Agenda del Concejal": Homenatge a Jaume Tubau
DESCRIPTION:Sergio Blázquez assistirà a l’homenatge a Jaume Tubau. Per a més informació podeu consultar aquí \n
URL:http://santcugat.ciudadanos-cs.org/evento/agenda-del-concejal-homenatge-a-jaume-tubau/
LOCATION:Plaça de la Vila\, 1\, Sant Cugat\, barcelona\, 08172\, España
ATTACH;FMTTYPE=image/jpeg:http://santcugat.ciudadanos-cs.org/wp-content/uploads/sites/44/2015/10/lr-_CHN3830-redes.jpg
END:VEVENT
END:VCALENDAR