BEGIN:VCALENDAR
VERSION:2.0
PRODID:-//Ciutadans | Sant Cugat - ECPv4.6.7//NONSGML v1.0//EN
CALSCALE:GREGORIAN
METHOD:PUBLISH
X-WR-CALNAME:Ciutadans | Sant Cugat
X-ORIGINAL-URL:http://santcugat.ciudadanos-cs.org
X-WR-CALDESC:Events for Ciutadans | Sant Cugat
BEGIN:VEVENT
DTSTART;TZID=UTC+0:20151104T180000
DTEND;TZID=UTC+0:20151104T200000
DTSTAMP:20260425T212554
CREATED:20151103T110401Z
LAST-MODIFIED:20151103T110401Z
UID:805-1446660000-1446667200@santcugat.ciudadanos-cs.org
SUMMARY:"Agenda del Concejal" - Conferència. "Velázquez\, el geni i la seva obra"
DESCRIPTION:Sergio Blázquez assistirà a la conferència organitzada per l’Associació Cultural de Sant Cugat sobre Velázquez. \nPer a més informació: http://santcugat.cat/activitat/conferencia-velazquez-el-geni-i-la-seva-obra \n
URL:http://santcugat.ciudadanos-cs.org/evento/agenda-del-concejal-conferencia-velazquez-el-geni-i-la-seva-obra/
LOCATION:Plaça d'en Coll\, 4 \, Sant Cugat\, Barcelona\, España
ATTACH;FMTTYPE=image/jpeg:http://santcugat.ciudadanos-cs.org/wp-content/uploads/sites/44/2015/10/lr-_CHN3830-redes.jpg
END:VEVENT
END:VCALENDAR