BEGIN:VCALENDAR
VERSION:2.0
PRODID:-//Ciutadans | Sant Cugat - ECPv4.6.7//NONSGML v1.0//EN
CALSCALE:GREGORIAN
METHOD:PUBLISH
X-WR-CALNAME:Ciutadans | Sant Cugat
X-ORIGINAL-URL:http://santcugat.ciudadanos-cs.org
X-WR-CALDESC:Events for Ciutadans | Sant Cugat
BEGIN:VEVENT
DTSTART;TZID=UTC+0:20151017T200000
DTEND;TZID=UTC+0:20151017T210000
DTSTAMP:20260425T035053
CREATED:20151013T145242Z
LAST-MODIFIED:20151013T145242Z
UID:594-1445112000-1445115600@santcugat.ciudadanos-cs.org
SUMMARY:Agenda del Concejal - "Concert Solidari ASDI a l'entorn d'Eduard Toldrà"
DESCRIPTION:Munia Fernández-Jordán asistirá al concert solidari a a benefici d’ASDI\, a l’entorn d’Eduard Toldrà\,  i que tindrà lloc a l’Aula Magna de l’Escola Victòria dels Àngels. \nL’acte comptarà amb la participació de la gran soprano Mª Àngels Miró i la reconeguda pianista M. Rosa Ribas \n
URL:http://santcugat.ciudadanos-cs.org/evento/agenda-del-concejal-concert-solidari-asdi-a-lentorn-deduard-toldra/
ATTACH;FMTTYPE=image/jpeg:http://santcugat.ciudadanos-cs.org/wp-content/uploads/sites/44/2015/10/lr-_CHN3832-redes.jpg
END:VEVENT
END:VCALENDAR