BEGIN:VCALENDAR
VERSION:2.0
PRODID:-//Ciutadans | Sant Cugat - ECPv4.6.7//NONSGML v1.0//EN
CALSCALE:GREGORIAN
METHOD:PUBLISH
X-WR-CALNAME:Ciutadans | Sant Cugat
X-ORIGINAL-URL:http://santcugat.ciudadanos-cs.org
X-WR-CALDESC:Events for Ciutadans | Sant Cugat
BEGIN:VEVENT
DTSTART;TZID=UTC+0:20151103T163000
DTEND;TZID=UTC+0:20151103T173000
DTSTAMP:20260425T225323
CREATED:20151103T112102Z
LAST-MODIFIED:20151103T112102Z
UID:808-1446568200-1446571800@santcugat.ciudadanos-cs.org
SUMMARY:"Agenda del Concejal" - Comissió Informativa Seguretat
DESCRIPTION:Aldo Ciprian assistirà a la comissió informativa de seguretat que tindrà lloc dimarts 03 de novembre de 16:30h-17:30h \n
URL:http://santcugat.ciudadanos-cs.org/evento/agenda-del-concejal-comissio-informativa-seguretat/
LOCATION:Plaça de la Vila\, 1\, Sant Cugat\, barcelona\, 08172\, España
ATTACH;FMTTYPE=image/jpeg:http://santcugat.ciudadanos-cs.org/wp-content/uploads/sites/44/2015/10/lr-_CHN3534-2-redes.jpg
END:VEVENT
END:VCALENDAR