BEGIN:VCALENDAR
VERSION:2.0
PRODID:-//Ciutadans | Sant Cugat - ECPv4.6.7//NONSGML v1.0//EN
CALSCALE:GREGORIAN
METHOD:PUBLISH
X-WR-CALNAME:Ciutadans | Sant Cugat
X-ORIGINAL-URL:http://santcugat.ciudadanos-cs.org
X-WR-CALDESC:Events for Ciutadans | Sant Cugat
BEGIN:VEVENT
DTSTART;TZID=UTC+0:20151104T150000
DTEND;TZID=UTC+0:20151104T160000
DTSTAMP:20260425T194717
CREATED:20151103T112240Z
LAST-MODIFIED:20151103T112240Z
UID:809-1446649200-1446652800@santcugat.ciudadanos-cs.org
SUMMARY:"Agenda del Concejal" - Comissió Informativa de Cultura
DESCRIPTION:Sergio Blázquez assistirà a la comissió informativa de cultura que tindrà lloc dimecres 04 de novembre a les 15:00\n \n
URL:http://santcugat.ciudadanos-cs.org/evento/agenda-del-concejal-comissio-informativa-de-cultura/
LOCATION:Plaça de la Vila\, 1\, Sant Cugat\, barcelona\, 08172\, España
ATTACH;FMTTYPE=image/jpeg:http://santcugat.ciudadanos-cs.org/wp-content/uploads/sites/44/2015/10/lr-_CHN3830-redes.jpg
END:VEVENT
END:VCALENDAR